
BEGIN:VCALENDAR
VERSION:2.0
PRODID:-//Bayerische Einzelpaddler-Vereinigung e.V. - ECPv6.15.20//NONSGML v1.0//EN
CALSCALE:GREGORIAN
METHOD:PUBLISH
X-WR-CALNAME:Bayerische Einzelpaddler-Vereinigung e.V.
X-ORIGINAL-URL:https://einzelpaddler.de
X-WR-CALDESC:Veranstaltungen für Bayerische Einzelpaddler-Vereinigung e.V.
REFRESH-INTERVAL;VALUE=DURATION:PT1H
X-Robots-Tag:noindex
X-PUBLISHED-TTL:PT1H
BEGIN:VTIMEZONE
TZID:Europe/Berlin
BEGIN:DAYLIGHT
TZOFFSETFROM:+0100
TZOFFSETTO:+0200
TZNAME:CEST
DTSTART:20250330T010000
END:DAYLIGHT
BEGIN:STANDARD
TZOFFSETFROM:+0200
TZOFFSETTO:+0100
TZNAME:CET
DTSTART:20251026T010000
END:STANDARD
BEGIN:DAYLIGHT
TZOFFSETFROM:+0100
TZOFFSETTO:+0200
TZNAME:CEST
DTSTART:20260329T010000
END:DAYLIGHT
BEGIN:STANDARD
TZOFFSETFROM:+0200
TZOFFSETTO:+0100
TZNAME:CET
DTSTART:20261025T010000
END:STANDARD
BEGIN:DAYLIGHT
TZOFFSETFROM:+0100
TZOFFSETTO:+0200
TZNAME:CEST
DTSTART:20270328T010000
END:DAYLIGHT
BEGIN:STANDARD
TZOFFSETFROM:+0200
TZOFFSETTO:+0100
TZNAME:CET
DTSTART:20271031T010000
END:STANDARD
END:VTIMEZONE
BEGIN:VEVENT
DTSTART;TZID=Europe/Berlin:20260810T000000
DTEND;TZID=Europe/Berlin:20260810T000000
DTSTAMP:20260420T024908
CREATED:20260417T065046Z
LAST-MODIFIED:20260417T065656Z
UID:1346-1786320000-1786320000@einzelpaddler.de
SUMMARY:Streckensperrung
DESCRIPTION:Trainingslager DKV
URL:https://einzelpaddler.de/kalender/streckensperrung-25/
CATEGORIES:Streckensperrung,Training
END:VEVENT
BEGIN:VEVENT
DTSTART;TZID=Europe/Berlin:20260822T000000
DTEND;TZID=Europe/Berlin:20260822T000000
DTSTAMP:20260420T024908
CREATED:20260417T065101Z
LAST-MODIFIED:20260417T065656Z
UID:1347-1787356800-1787356800@einzelpaddler.de
SUMMARY:Streckensperrung
DESCRIPTION:Europacup Freiwasserschwimmen
URL:https://einzelpaddler.de/kalender/streckensperrung-26/
CATEGORIES:Streckensperrung,Training
END:VEVENT
BEGIN:VEVENT
DTSTART;TZID=Europe/Berlin:20260829T000000
DTEND;TZID=Europe/Berlin:20260829T000000
DTSTAMP:20260420T024908
CREATED:20260417T065101Z
LAST-MODIFIED:20260417T065656Z
UID:1348-1787961600-1787961600@einzelpaddler.de
SUMMARY:Streckensperrung
DESCRIPTION:3 MUC Triathlon
URL:https://einzelpaddler.de/kalender/streckensperrung-27/
CATEGORIES:Streckensperrung,Training
END:VEVENT
END:VCALENDAR